BEGIN:VCALENDAR
VERSION:2.0
PRODID:-//CERN//INDICO//EN
BEGIN:VEVENT
SUMMARY:Research School in Real Algebraic Geometry 2
DTSTART:20260526T070000Z
DTEND:20260529T140000Z
DTSTAMP:20260422T183900Z
UID:indico-event-185@indico.sissa.it
DESCRIPTION:https://indico.sissa.it/event/185/
URL:https://indico.sissa.it/event/185/
END:VEVENT
END:VCALENDAR
