BEGIN:VCALENDAR
VERSION:2.0
PRODID:-//CERN//INDICO//EN
BEGIN:VEVENT
SUMMARY:Workshop in Geometry and Mathematical Physics
DTSTART:20260525T070000Z
DTEND:20260526T130000Z
DTSTAMP:20260422T183800Z
UID:indico-event-188@indico.sissa.it
DESCRIPTION:This is a 2-day workshop that includes the award of the Dubrov
 in medal.\nThe winners are \nElba Garcia-Failde (Universitat Politècnica
  de Catalunya and Institut de Mathematiques de Jussieu\, Sorbonne Universi
 te)\nYang Li (University of Cambridge)\n \nSpeakers\n \nGaetan Borot  
      (Humboldt University\,  Berlin)\nMarco Bertola     (Concordia 
 University\, Montreal)\nGuido Carlet        (IMB\,  Dijon)\nMarta Maz
 zocco  (ICREA Barcelona)\nPaolo Rossi   (University of Padua)\nGiulio R
 uzza  (University of Lisbon)\n \n \n \n \n \n\nhttps://indico.sissa.
 it/event/188/
LOCATION:7th floow (SISSA)
URL:https://indico.sissa.it/event/188/
END:VEVENT
END:VCALENDAR
